BEGIN:VCALENDAR
VERSION:2.0
PRODID:-//Tulip Academy Spalding - ECPv6.15.17.1//NONSGML v1.0//EN
CALSCALE:GREGORIAN
METHOD:PUBLISH
X-WR-CALNAME:Tulip Academy Spalding
X-ORIGINAL-URL:https://tulip-cit.co.uk
X-WR-CALDESC:Events for Tulip Academy Spalding
REFRESH-INTERVAL;VALUE=DURATION:PT1H
X-Robots-Tag:noindex
X-PUBLISHED-TTL:PT1H
BEGIN:VTIMEZONE
TZID:UTC
BEGIN:STANDARD
TZOFFSETFROM:+0000
TZOFFSETTO:+0000
TZNAME:UTC
DTSTART:20220101T000000
END:STANDARD
END:VTIMEZONE
BEGIN:VEVENT
DTSTART;VALUE=DATE:20230331
DTEND;VALUE=DATE:20230401
DTSTAMP:20260422T115445
CREATED:20220811T142001Z
LAST-MODIFIED:20220811T142001Z
UID:832-1680220800-1680307199@tulip-cit.co.uk
SUMMARY:Teacher Training
DESCRIPTION:
URL:https://tulip-cit.co.uk/event/teacher-training-2/
END:VEVENT
END:VCALENDAR